BEGIN:VCALENDAR
CALSCALE:GREGORIAN
X-WR-TIMEZONE;VALUE=TEXT:Pacific Standard Time
METHOD:PUBLISH
PRODID:-//Flo Inc.//FloSoft//EN
BEGIN:VEVENT
DTSTART;TZID=Pacific Standard Time:20131202T190000Z
DTSTAMP:20131202T190000Z
DTEND;TZID=Pacific Standard Time:20131202T223000Z
SUMMARY;ENCODING=QUOTED-PRINTABLE:Documentary Film Screening and Discussion: The 1923 Earthquake and Korean Massacre in Japan
DESCRIPTION;ENCODING=QUOTED-PRINTABLE:Jinhee Lee, Eastern Illinois University


LOCATION;ENCODING=QUOTED-PRINTABLE:Royce Hall 314, UCLA
UID:1029120131202T190000ZDocumentary Film Screening and Discussion: The 1923 Earthquake and Korean Massacre in Japan
PRIORITY:3
BEGIN:VALARM
TRIGGER;VALUE=DURATION:-P1D
ACTION:DISPLAY
DESCRIPTION:Event reminder
END:VALARM
END:VEVENT
END:VCALENDAR
