BEGIN:VCALENDAR
CALSCALE:GREGORIAN
X-WR-TIMEZONE;VALUE=TEXT:Pacific Standard Time
METHOD:PUBLISH
PRODID:-//Flo Inc.//FloSoft//EN
BEGIN:VEVENT
DTSTART;TZID=Pacific Standard Time:20140129T200000Z
DTSTAMP:20140129T200000Z
DTEND;TZID=Pacific Standard Time:20140130T000000Z
SUMMARY;ENCODING=QUOTED-PRINTABLE:Classical Mindfulness Conference
DESCRIPTION;ENCODING=QUOTED-PRINTABLE:A conference on classical mindfulness, its relevance to modern therapy, and its clinical and research potential.



LOCATION;ENCODING=QUOTED-PRINTABLE:314 Royce Hall
UID:1031120140129T200000ZClassical Mindfulness Conference
PRIORITY:3
BEGIN:VALARM
TRIGGER;VALUE=DURATION:-P1D
ACTION:DISPLAY
DESCRIPTION:Event reminder
END:VALARM
END:VEVENT
END:VCALENDAR
