BEGIN:VCALENDAR
CALSCALE:GREGORIAN
X-WR-TIMEZONE;VALUE=TEXT:Pacific Standard Time
METHOD:PUBLISH
PRODID:-//Flo Inc.//FloSoft//EN
BEGIN:VEVENT
DTSTART;TZID=Pacific Standard Time:20140314T190000Z
DTSTAMP:20140314T190000Z
DTEND;TZID=Pacific Standard Time:20140314T203000Z
SUMMARY;ENCODING=QUOTED-PRINTABLE:The Stigma of Illegality: Children's Perspectives
DESCRIPTION;ENCODING=QUOTED-PRINTABLE:A talk by Joanna Dreby (Sociology, University of Albany, State University of New York)


LOCATION;ENCODING=QUOTED-PRINTABLE:Reading Room, 3340 Moore Hall
UID:1032820140314T190000ZThe Stigma of Illegality: Children's Perspectives
PRIORITY:3
BEGIN:VALARM
TRIGGER;VALUE=DURATION:-P1D
ACTION:DISPLAY
DESCRIPTION:Event reminder
END:VALARM
END:VEVENT
END:VCALENDAR
