BEGIN:VCALENDAR
CALSCALE:GREGORIAN
X-WR-TIMEZONE;VALUE=TEXT:Pacific Standard Time
METHOD:PUBLISH
PRODID:-//Flo Inc.//FloSoft//EN
BEGIN:VEVENT
DTSTART;TZID=Pacific Standard Time:20140206T023000Z
DTSTAMP:20140206T023000Z
DTEND;TZID=Pacific Standard Time:20140206T040000Z
SUMMARY;ENCODING=QUOTED-PRINTABLE:Mutum (Mute) Film Screening
DESCRIPTION;ENCODING=QUOTED-PRINTABLE:By Brazilian director  Sandra Kogut
LOCATION;ENCODING=QUOTED-PRINTABLE:Melnitz Hall 1409, UCLA James Bridges Theater
UID:1040120140206T023000ZMutum (Mute) Film Screening
PRIORITY:3
BEGIN:VALARM
TRIGGER;VALUE=DURATION:-P1D
ACTION:DISPLAY
DESCRIPTION:Event reminder
END:VALARM
END:VEVENT
END:VCALENDAR
