BEGIN:VCALENDAR
CALSCALE:GREGORIAN
X-WR-TIMEZONE;VALUE=TEXT:Pacific Standard Time
METHOD:PUBLISH
PRODID:-//Flo Inc.//FloSoft//EN
BEGIN:VEVENT
DTSTART;TZID=Pacific Standard Time:20140403T023000Z
DTSTAMP:20140403T023000Z
DTEND;TZID=Pacific Standard Time:20140403T041500Z
SUMMARY;ENCODING=QUOTED-PRINTABLE:Esse Amor Que Nos Consome ( This Love That Consumes Us) Film Screening 
DESCRIPTION;ENCODING=QUOTED-PRINTABLE:By Brazilian director Allan Ribeiro
LOCATION;ENCODING=QUOTED-PRINTABLE:Melnitz Hall 1409, UCLA James Bridges Theater
UID:1042920140403T023000ZEsse Amor Que Nos Consome ( This Love That Consumes Us) Film Screening 
PRIORITY:3
BEGIN:VALARM
TRIGGER;VALUE=DURATION:-P1D
ACTION:DISPLAY
DESCRIPTION:Event reminder
END:VALARM
END:VEVENT
END:VCALENDAR
