BEGIN:VCALENDAR
CALSCALE:GREGORIAN
X-WR-TIMEZONE;VALUE=TEXT:Pacific Standard Time
METHOD:PUBLISH
PRODID:-//Flo Inc.//FloSoft//EN
BEGIN:VEVENT
DTSTART;TZID=Pacific Standard Time:20140213T183000Z
DTSTAMP:20140213T183000Z
DTEND;TZID=Pacific Standard Time:20140213T200000Z
SUMMARY;ENCODING=QUOTED-PRINTABLE:Teaching Central Asia
DESCRIPTION;ENCODING=QUOTED-PRINTABLE:This week in Central Asia Workshop we will discuss how to integrate Central Asian topics into the classroom.
LOCATION;ENCODING=QUOTED-PRINTABLE:
UID:1044720140213T183000ZTeaching Central Asia
PRIORITY:3
BEGIN:VALARM
TRIGGER;VALUE=DURATION:-P1D
ACTION:DISPLAY
DESCRIPTION:Event reminder
END:VALARM
END:VEVENT
END:VCALENDAR
