BEGIN:VCALENDAR
CALSCALE:GREGORIAN
X-WR-TIMEZONE;VALUE=TEXT:Pacific Standard Time
METHOD:PUBLISH
PRODID:-//Flo Inc.//FloSoft//EN
BEGIN:VEVENT
DTSTART;TZID=Pacific Standard Time:20140312T200000Z
DTSTAMP:20140312T200000Z
DTEND;TZID=Pacific Standard Time:20140312T210000Z
SUMMARY;ENCODING=QUOTED-PRINTABLE:The Bauhaus in Bengal: Reconstructing an Historical Exhibition
DESCRIPTION;ENCODING=QUOTED-PRINTABLE:By Prof. Saloni Mathur, Department of Art History, UCLA
LOCATION;ENCODING=QUOTED-PRINTABLE:UCLA 10383 Bunche Hall
UID:1045120140312T200000ZThe Bauhaus in Bengal: Reconstructing an Historical Exhibition
PRIORITY:3
BEGIN:VALARM
TRIGGER;VALUE=DURATION:-P1D
ACTION:DISPLAY
DESCRIPTION:Event reminder
END:VALARM
END:VEVENT
END:VCALENDAR
