BEGIN:VCALENDAR
CALSCALE:GREGORIAN
X-WR-TIMEZONE;VALUE=TEXT:Pacific Standard Time
METHOD:PUBLISH
PRODID:-//Flo Inc.//FloSoft//EN
BEGIN:VEVENT
DTSTART;TZID=Pacific Standard Time:20140306T023000Z
DTSTAMP:20140306T023000Z
DTEND;TZID=Pacific Standard Time:20140306T040000Z
SUMMARY;ENCODING=QUOTED-PRINTABLE:Elena Film Screening
DESCRIPTION;ENCODING=QUOTED-PRINTABLE:By Brazilian director  Petra Costa
LOCATION;ENCODING=QUOTED-PRINTABLE:Melnitz Hall 1409, UCLA James Bridges Theater
UID:1047320140306T023000ZElena Film Screening
PRIORITY:3
BEGIN:VALARM
TRIGGER;VALUE=DURATION:-P1D
ACTION:DISPLAY
DESCRIPTION:Event reminder
END:VALARM
END:VEVENT
END:VCALENDAR
