BEGIN:VCALENDAR
CALSCALE:GREGORIAN
X-WR-TIMEZONE;VALUE=TEXT:Pacific Standard Time
METHOD:PUBLISH
PRODID:-//Flo Inc.//FloSoft//EN
BEGIN:VEVENT
DTSTART;TZID=Pacific Standard Time:20140401T230000Z
DTSTAMP:20140401T230000Z
DTEND;TZID=Pacific Standard Time:20140402T010000Z
SUMMARY;ENCODING=QUOTED-PRINTABLE:At the Edge of the Human: Colonial and Postcolonial Terror in Vietnam
DESCRIPTION;ENCODING=QUOTED-PRINTABLE:Symposium with Helle Rydstrom, Department of Gender Studies, Lund University and Nguyen-võ Thu-huong, UCLA Departments of Asian Languages and Cultures and Asian American Studies.
LOCATION;ENCODING=QUOTED-PRINTABLE:Asian American Studies Center Conference Room, 3232 Campbell Hall, UCLA Campus
UID:1051320140401T230000ZAt the Edge of the Human: Colonial and Postcolonial Terror in Vietnam
PRIORITY:3
BEGIN:VALARM
TRIGGER;VALUE=DURATION:-P1D
ACTION:DISPLAY
DESCRIPTION:Event reminder
END:VALARM
END:VEVENT
END:VCALENDAR
