BEGIN:VCALENDAR
CALSCALE:GREGORIAN
X-WR-TIMEZONE;VALUE=TEXT:Pacific Standard Time
METHOD:PUBLISH
PRODID:-//Flo Inc.//FloSoft//EN
BEGIN:VEVENT
DTSTART;TZID=Pacific Standard Time:20140426T223000Z
DTSTAMP:20140426T223000Z
DTEND;TZID=Pacific Standard Time:20140427T013000Z
SUMMARY;ENCODING=QUOTED-PRINTABLE:Indonesia film: The Act of Killing
DESCRIPTION;ENCODING=QUOTED-PRINTABLE:Screened as part of the UCLA International Institute's International Human Rights Film Series
LOCATION;ENCODING=QUOTED-PRINTABLE:James Bridges Theater, Melnitz Hall, UCLA Campus
UID:1060220140426T223000ZIndonesia film: The Act of Killing
PRIORITY:3
BEGIN:VALARM
TRIGGER;VALUE=DURATION:-P1D
ACTION:DISPLAY
DESCRIPTION:Event reminder
END:VALARM
END:VEVENT
END:VCALENDAR
