BEGIN:VCALENDAR
CALSCALE:GREGORIAN
X-WR-TIMEZONE;VALUE=TEXT:Pacific Standard Time
METHOD:PUBLISH
PRODID:-//Flo Inc.//FloSoft//EN
BEGIN:VEVENT
DTSTART;TZID=Pacific Standard Time:20150410T160000Z
DTSTAMP:20150410T160000Z
DTEND;TZID=Pacific Standard Time:20150411T001500Z
SUMMARY;ENCODING=QUOTED-PRINTABLE:Genocide and Global History: A Conference on the 100th Anniversary of the Armenian Genocide
DESCRIPTION;ENCODING=QUOTED-PRINTABLE:A two-day international conference organized by the UCLA Richard Hovannisian Endowed Chair in Modern Armenian History. Cosponsored by the UCLA Department of History, UCLA Center for European and Eurasian Studies, UCLA Gustave von Grunebaum Center for Near East Studies, Organization of Istanbul Armenians.
LOCATION;ENCODING=QUOTED-PRINTABLE:UCLA Faculty Center
UID:1114220150410T160000ZGenocide and Global History: A Conference on the 100th Anniversary of the Armenian Genocide
PRIORITY:3
BEGIN:VALARM
TRIGGER;VALUE=DURATION:-P1D
ACTION:DISPLAY
DESCRIPTION:Event reminder
END:VALARM
END:VEVENT
END:VCALENDAR
