BEGIN:VCALENDAR
CALSCALE:GREGORIAN
X-WR-TIMEZONE;VALUE=TEXT:Pacific Standard Time
METHOD:PUBLISH
PRODID:-//Flo Inc.//FloSoft//EN
BEGIN:VEVENT
DTSTART;TZID=Pacific Standard Time:20170216T074500Z
DTSTAMP:20170216T074500Z
DTEND;TZID=Pacific Standard Time:20170216T084500Z
SUMMARY;ENCODING=QUOTED-PRINTABLE:4th National Symposium on SPANISH as a HERITAGE LANGUAGE
DESCRIPTION;ENCODING=QUOTED-PRINTABLE:The Fourth National Symposium on Spanish as a Heritage Language (SSHL) will be held at the University of California, Irvine February 16th - 18th, 2017. Professor Julio Torres, Assistant Professor of Spanish Applied Linguistics and Director of the Spanish Language Program at UCI, invites you to participate in this K-16 community-oriented meeting. Activities include research presentations from a number of fields within linguistics and pedagogy, workshops on conducting action research in the classroom, task-based language teaching, translanguaging approaches to heritage language pedagogy, and a Creative Writing Contest.
LOCATION;ENCODING=QUOTED-PRINTABLE:
UID:1200220170216T074500Z4th National Symposium on SPANISH as a HERITAGE LANGUAGE
PRIORITY:3
BEGIN:VALARM
TRIGGER;VALUE=DURATION:-P1D
ACTION:DISPLAY
DESCRIPTION:Event reminder
END:VALARM
END:VEVENT
END:VCALENDAR
