BEGIN:VCALENDAR
CALSCALE:GREGORIAN
X-WR-TIMEZONE;VALUE=TEXT:Pacific Standard Time
METHOD:PUBLISH
PRODID:-//Flo Inc.//FloSoft//EN
BEGIN:VEVENT
DTSTART;TZID=Pacific Standard Time:20170906T074500Z
DTSTAMP:20170906T074500Z
DTEND;TZID=Pacific Standard Time:20170906T084500Z
SUMMARY;ENCODING=QUOTED-PRINTABLE:全球華人慈善行動發布活動 - 洛杉磯
DESCRIPTION;ENCODING=QUOTED-PRINTABLE:首創性“全球華人慈善行動”(簡稱GCPI)項目在此隆重推出這個以創新型方式連接中國及美籍華裔慈善家的動態平臺。在2017年9月6日於洛杉磯舉行的全天會議中，200多位與會嘉賓有幸與其他慈善家會面並建立寶貴的長久關系。這也正是實現GCPI宗旨的基礎。
LOCATION;ENCODING=QUOTED-PRINTABLE:404 South Figueroa Street
UID:1265720170906T074500Z全球華人慈善行動發布活動 - 洛杉磯
PRIORITY:3
BEGIN:VALARM
TRIGGER;VALUE=DURATION:-P1D
ACTION:DISPLAY
DESCRIPTION:Event reminder
END:VALARM
END:VEVENT
END:VCALENDAR
