BEGIN:VCALENDAR
CALSCALE:GREGORIAN
X-WR-TIMEZONE;VALUE=TEXT:Pacific Standard Time
METHOD:PUBLISH
PRODID:-//Flo Inc.//FloSoft//EN
BEGIN:VEVENT
DTSTART;TZID=Pacific Standard Time:20180315T230000Z
DTSTAMP:20180315T230000Z
DTEND;TZID=Pacific Standard Time:20180316T010000Z
SUMMARY;ENCODING=QUOTED-PRINTABLE:International Women's Day 2018 Talk with E. Tendayi Achiume
DESCRIPTION;ENCODING=QUOTED-PRINTABLE:Due to high demand, the talk will be held in the California Room of UCLA Faculty Center. 
LOCATION;ENCODING=QUOTED-PRINTABLE:UCLA Faculty Center, Sequoia Room
UID:1307120180315T230000ZInternational Women's Day 2018 Talk with E. Tendayi Achiume
PRIORITY:3
BEGIN:VALARM
TRIGGER;VALUE=DURATION:-P1D
ACTION:DISPLAY
DESCRIPTION:Event reminder
END:VALARM
END:VEVENT
END:VCALENDAR
