BEGIN:VCALENDAR
CALSCALE:GREGORIAN
X-WR-TIMEZONE;VALUE=TEXT:Pacific Standard Time
METHOD:PUBLISH
PRODID:-//Flo Inc.//FloSoft//EN
BEGIN:VEVENT
DTSTART;TZID=Pacific Standard Time:20190821T010000Z
DTSTAMP:20190821T010000Z
DTEND;TZID=Pacific Standard Time:20190821T030000Z
SUMMARY;ENCODING=QUOTED-PRINTABLE:UCLA Centennial Celebration in Singapore
DESCRIPTION;ENCODING=QUOTED-PRINTABLE:Chancellor Gene Block and the UCLA International Centennial delegation hosted a celebration of UCLA’s first hundred years in Singapore. UCLA student Pei Xi, Class of 2020; Dr. Jonathan Flint, UCLA professor-in-residence of psychiatry and biobehavioral sciences; and UCLA alumnus Jennifer Loh, BA ’98, shared thought-provoking stories about her passion in creating an impact to educating our future generation and her wide-range of skills in different fields that led to her success.
LOCATION;ENCODING=QUOTED-PRINTABLE:
UID:1391120190821T010000ZUCLA Centennial Celebration in Singapore
PRIORITY:3
BEGIN:VALARM
TRIGGER;VALUE=DURATION:-P1D
ACTION:DISPLAY
DESCRIPTION:Event reminder
END:VALARM
END:VEVENT
END:VCALENDAR
