BEGIN:VCALENDAR
CALSCALE:GREGORIAN
X-WR-TIMEZONE;VALUE=TEXT:Pacific Standard Time
METHOD:PUBLISH
PRODID:-//Flo Inc.//FloSoft//EN
BEGIN:VEVENT
DTSTART;TZID=Pacific Standard Time:20191118T074500Z
DTSTAMP:20191118T074500Z
DTEND;TZID=Pacific Standard Time:20191118T084500Z
SUMMARY;ENCODING=QUOTED-PRINTABLE:Lost in Translation
DESCRIPTION;ENCODING=QUOTED-PRINTABLE:Online IEW event for international students at UCLA.
LOCATION;ENCODING=QUOTED-PRINTABLE:ONLINE, Exhibit: Tues., Nov. 26, Bruin Plaza -- East Stage
UID:1410520191118T074500ZLost in Translation
PRIORITY:3
BEGIN:VALARM
TRIGGER;VALUE=DURATION:-P1D
ACTION:DISPLAY
DESCRIPTION:Event reminder
END:VALARM
END:VEVENT
END:VCALENDAR
