BEGIN:VCALENDAR
CALSCALE:GREGORIAN
X-WR-TIMEZONE;VALUE=TEXT:Pacific Standard Time
METHOD:PUBLISH
PRODID:-//Flo Inc.//FloSoft//EN
BEGIN:VEVENT
DTSTART;TZID=Pacific Standard Time:20200528T153000Z
DTSTAMP:20200528T153000Z
DTEND;TZID=Pacific Standard Time:20200529T003000Z
SUMMARY;ENCODING=QUOTED-PRINTABLE:CANCELLED: 7th Annual International Institute Student Conference
DESCRIPTION;ENCODING=QUOTED-PRINTABLE:The International Institute Student Conference was launched in 2011 in order to provide a forum for graduate and undergraduate students to present their research. Each year the conference brings together students from diverse disciplines to critically examine global issues. 
LOCATION;ENCODING=QUOTED-PRINTABLE:
UID:1429120200528T153000ZCANCELLED: 7th Annual International Institute Student Conference
PRIORITY:3
BEGIN:VALARM
TRIGGER;VALUE=DURATION:-P1D
ACTION:DISPLAY
DESCRIPTION:Event reminder
END:VALARM
END:VEVENT
END:VCALENDAR
