BEGIN:VCALENDAR
CALSCALE:GREGORIAN
X-WR-TIMEZONE;VALUE=TEXT:Pacific Standard Time
METHOD:PUBLISH
PRODID:-//Flo Inc.//FloSoft//EN
BEGIN:VEVENT
DTSTART;TZID=Pacific Standard Time:20200627T010000Z
DTSTAMP:20200627T010000Z
DTEND;TZID=Pacific Standard Time:20200627T020000Z
SUMMARY;ENCODING=QUOTED-PRINTABLE:Transforming Global Lessons
DESCRIPTION;ENCODING=QUOTED-PRINTABLE:Transforming Global Lessons will continue biweekly throughout the summer. Friday’s program will address topics like housing options, financial resources, zoom fatigue and more! 

Hosted by UCLA Residential Life 
Moderated by Dr. Michael Rodriguez, Faculty-In-Residence and GH Minor Chair
LOCATION;ENCODING=QUOTED-PRINTABLE:
UID:1446220200627T010000ZTransforming Global Lessons
PRIORITY:3
BEGIN:VALARM
TRIGGER;VALUE=DURATION:-P1D
ACTION:DISPLAY
DESCRIPTION:Event reminder
END:VALARM
END:VEVENT
END:VCALENDAR
