BEGIN:VCALENDAR
CALSCALE:GREGORIAN
X-WR-TIMEZONE;VALUE=TEXT:Pacific Standard Time
METHOD:PUBLISH
PRODID:-//Flo Inc.//FloSoft//EN
BEGIN:VEVENT
DTSTART;TZID=Pacific Standard Time:20210212T170000Z
DTSTAMP:20210212T170000Z
DTEND;TZID=Pacific Standard Time:20210212T183000Z
SUMMARY;ENCODING=QUOTED-PRINTABLE:Spy, Patrol, Police: Black Life and the Production of Epidemiological Knowledge from Atlanta, Georgia to Freetown, Sierra Leone
DESCRIPTION;ENCODING=QUOTED-PRINTABLE:Black Lives Matter: Global Perspectives Webinar Series | Adia Benton
LOCATION;ENCODING=QUOTED-PRINTABLE:
UID:1486020210212T170000ZSpy, Patrol, Police: Black Life and the Production of Epidemiological Knowledge from Atlanta, Georgia to Freetown, Sierra Leone
PRIORITY:3
BEGIN:VALARM
TRIGGER;VALUE=DURATION:-P1D
ACTION:DISPLAY
DESCRIPTION:Event reminder
END:VALARM
END:VEVENT
END:VCALENDAR
