BEGIN:VCALENDAR
CALSCALE:GREGORIAN
X-WR-TIMEZONE;VALUE=TEXT:Pacific Standard Time
METHOD:PUBLISH
PRODID:-//Flo Inc.//FloSoft//EN
BEGIN:VEVENT
DTSTART;TZID=Pacific Standard Time:20211115T160000Z
DTSTAMP:20211115T160000Z
DTEND;TZID=Pacific Standard Time:20211115T170000Z
SUMMARY;ENCODING=QUOTED-PRINTABLE:International Education Week
DESCRIPTION;ENCODING=QUOTED-PRINTABLE:UCLA joins college campuses nationwide to celebrate international education and exchange. 
LOCATION;ENCODING=QUOTED-PRINTABLE:
UID:1528720211115T160000ZInternational Education Week
PRIORITY:3
BEGIN:VALARM
TRIGGER;VALUE=DURATION:-P1D
ACTION:DISPLAY
DESCRIPTION:Event reminder
END:VALARM
END:VEVENT
END:VCALENDAR
