BEGIN:VCALENDAR
CALSCALE:GREGORIAN
X-WR-TIMEZONE;VALUE=TEXT:Pacific Standard Time
METHOD:PUBLISH
PRODID:-//Flo Inc.//FloSoft//EN
BEGIN:VEVENT
DTSTART;TZID=Pacific Standard Time:20221004T193000Z
DTSTAMP:20221004T193000Z
DTEND;TZID=Pacific Standard Time:20221004T203000Z
SUMMARY;ENCODING=QUOTED-PRINTABLE:When Fighting Becomes an End in Itself: Conflict in the Democratic Republic of Congo
DESCRIPTION;ENCODING=QUOTED-PRINTABLE:A book talk with Jason Stearns, Director of the Congo Research Group, NYU
LOCATION;ENCODING=QUOTED-PRINTABLE:Webinar
UID:1570520221004T193000ZWhen Fighting Becomes an End in Itself: Conflict in the Democratic Republic of Congo
PRIORITY:3
BEGIN:VALARM
TRIGGER;VALUE=DURATION:-P1D
ACTION:DISPLAY
DESCRIPTION:Event reminder
END:VALARM
END:VEVENT
END:VCALENDAR
