BEGIN:VCALENDAR
CALSCALE:GREGORIAN
X-WR-TIMEZONE;VALUE=TEXT:Pacific Standard Time
METHOD:PUBLISH
PRODID:-//Flo Inc.//FloSoft//EN
BEGIN:VEVENT
DTSTART;TZID=Pacific Standard Time:20221004T190000Z
DTSTAMP:20221004T190000Z
DTEND;TZID=Pacific Standard Time:20221004T210000Z
SUMMARY;ENCODING=QUOTED-PRINTABLE:Bloom on the Gallows: Hallāj as Imagery and as Metaphor in South Asian Poetry (Lunch Talk-Hybrid)
DESCRIPTION;ENCODING=QUOTED-PRINTABLE:Syed Nomanul Haq, the Institute of Liberal Arts at the University of Management and Technology, Lahore, Pakistan
LOCATION;ENCODING=QUOTED-PRINTABLE:10383 Bunche Hall
UID:1578020221004T190000ZBloom on the Gallows: Hallāj as Imagery and as Metaphor in South Asian Poetry (Lunch Talk-Hybrid)
PRIORITY:3
BEGIN:VALARM
TRIGGER;VALUE=DURATION:-P1D
ACTION:DISPLAY
DESCRIPTION:Event reminder
END:VALARM
END:VEVENT
END:VCALENDAR
