BEGIN:VCALENDAR
CALSCALE:GREGORIAN
X-WR-TIMEZONE;VALUE=TEXT:Pacific Standard Time
METHOD:PUBLISH
PRODID:-//Flo Inc.//FloSoft//EN
BEGIN:VEVENT
DTSTART;TZID=Pacific Standard Time:20240415T190000Z
DTSTAMP:20240415T190000Z
DTEND;TZID=Pacific Standard Time:20240415T200000Z
SUMMARY;ENCODING=QUOTED-PRINTABLE:Return from the Land of the Dead: Listening to the Untranslatable Voices from Fukushima
DESCRIPTION;ENCODING=QUOTED-PRINTABLE:New start time
LOCATION;ENCODING=QUOTED-PRINTABLE:Royce Hall 314
UID:1644520240415T190000ZReturn from the Land of the Dead: Listening to the Untranslatable Voices from Fukushima
PRIORITY:3
BEGIN:VALARM
TRIGGER;VALUE=DURATION:-P1D
ACTION:DISPLAY
DESCRIPTION:Event reminder
END:VALARM
END:VEVENT
END:VCALENDAR
