BEGIN:VCALENDAR
CALSCALE:GREGORIAN
X-WR-TIMEZONE;VALUE=TEXT:Pacific Standard Time
METHOD:PUBLISH
PRODID:-//Flo Inc.//FloSoft//EN
BEGIN:VEVENT
DTSTART;TZID=Pacific Standard Time:20240224T163000Z
DTSTAMP:20240224T163000Z
DTEND;TZID=Pacific Standard Time:20240224T203000Z
SUMMARY;ENCODING=QUOTED-PRINTABLE:A Language Archipelago: Linguistic Variety and Contact in Cyprus
DESCRIPTION;ENCODING=QUOTED-PRINTABLE:<p>A two-day virtual conference in celebration of International Greek Language Day, organized by the <a href="https://hellenic.ucla.edu/event/a-language-archipelago-linguistic-variety-and-contact-in-cyprus/" target="_blank">UCLA Stavros Niarchos Foundation Center for the Study of Hellenic Culture</a>.&nbsp;</p>

LOCATION;ENCODING=QUOTED-PRINTABLE:
UID:1655220240224T163000ZA Language Archipelago: Linguistic Variety and Contact in Cyprus
PRIORITY:3
BEGIN:VALARM
TRIGGER;VALUE=DURATION:-P1D
ACTION:DISPLAY
DESCRIPTION:Event reminder
END:VALARM
END:VEVENT
END:VCALENDAR
