BEGIN:VCALENDAR
CALSCALE:GREGORIAN
X-WR-TIMEZONE;VALUE=TEXT:Pacific Standard Time
METHOD:PUBLISH
PRODID:-//Flo Inc.//FloSoft//EN
BEGIN:VEVENT
DTSTART;TZID=Pacific Standard Time:20240226T200000Z
DTSTAMP:20240226T200000Z
DTEND;TZID=Pacific Standard Time:20240226T210000Z
SUMMARY;ENCODING=QUOTED-PRINTABLE:State Maps' Agency and Mountains' Multiplicity in the Andes
DESCRIPTION;ENCODING=QUOTED-PRINTABLE:Event presented by the Andean Working Group
LOCATION;ENCODING=QUOTED-PRINTABLE:Online
UID:1656120240226T200000ZState Maps' Agency and Mountains' Multiplicity in the Andes
PRIORITY:3
BEGIN:VALARM
TRIGGER;VALUE=DURATION:-P1D
ACTION:DISPLAY
DESCRIPTION:Event reminder
END:VALARM
END:VEVENT
END:VCALENDAR
