BEGIN:VCALENDAR
CALSCALE:GREGORIAN
X-WR-TIMEZONE;VALUE=TEXT:Pacific Standard Time
METHOD:PUBLISH
PRODID:-//Flo Inc.//FloSoft//EN
BEGIN:VEVENT
DTSTART;TZID=Pacific Standard Time:20240425T010000Z
DTSTAMP:20240425T010000Z
DTEND;TZID=Pacific Standard Time:20240425T020000Z
SUMMARY;ENCODING=QUOTED-PRINTABLE:Film Screening of Moskva Kassiopeiia
DESCRIPTION;ENCODING=QUOTED-PRINTABLE:
LOCATION;ENCODING=QUOTED-PRINTABLE:Haines Hall room 39
UID:1670120240425T010000ZFilm Screening of Moskva Kassiopeiia
PRIORITY:3
BEGIN:VALARM
TRIGGER;VALUE=DURATION:-P1D
ACTION:DISPLAY
DESCRIPTION:Event reminder
END:VALARM
END:VEVENT
END:VCALENDAR
