BEGIN:VCALENDAR
CALSCALE:GREGORIAN
X-WR-TIMEZONE;VALUE=TEXT:Pacific Standard Time
METHOD:PUBLISH
PRODID:-//Flo Inc.//FloSoft//EN
BEGIN:VEVENT
DTSTART;TZID=Pacific Standard Time:20240528T230000Z
DTSTAMP:20240528T230000Z
DTEND;TZID=Pacific Standard Time:20240529T003000Z
SUMMARY;ENCODING=QUOTED-PRINTABLE:Crimes, Not Just Tragedies: Reporting War Against Ukraine
DESCRIPTION;ENCODING=QUOTED-PRINTABLE:Nataliya Gumenyuk, Ukrainian journalist, on how to reunite truth with justice amidst war against Ukraine.
LOCATION;ENCODING=QUOTED-PRINTABLE:Bunche Hall Rm 10383 &amp; Webinar
UID:1674920240528T230000ZCrimes, Not Just Tragedies: Reporting War Against Ukraine
PRIORITY:3
BEGIN:VALARM
TRIGGER;VALUE=DURATION:-P1D
ACTION:DISPLAY
DESCRIPTION:Event reminder
END:VALARM
END:VEVENT
END:VCALENDAR
