BEGIN:VCALENDAR
CALSCALE:GREGORIAN
X-WR-TIMEZONE;VALUE=TEXT:Pacific Standard Time
METHOD:PUBLISH
PRODID:-//Flo Inc.//FloSoft//EN
BEGIN:VEVENT
DTSTART;TZID=Pacific Standard Time:20240904T191500Z
DTSTAMP:20240904T191500Z
DTEND;TZID=Pacific Standard Time:20240904T201500Z
SUMMARY;ENCODING=QUOTED-PRINTABLE:A Conversation with Josh Paul, former Director of the U.S. State Departments Bureau of Political-Military Affairs
DESCRIPTION;ENCODING=QUOTED-PRINTABLE:Hear insights on U.S.-Israel alliance and the landscape of U.S. security cooperation.
LOCATION;ENCODING=QUOTED-PRINTABLE:UCLA Law School, Room 1447, 385 Charles E Young Drive East 
UID:1677620240904T191500ZA Conversation with Josh Paul, former Director of the U.S. State Departments Bureau of Political-Military Affairs
PRIORITY:3
BEGIN:VALARM
TRIGGER;VALUE=DURATION:-P1D
ACTION:DISPLAY
DESCRIPTION:Event reminder
END:VALARM
END:VEVENT
END:VCALENDAR
