BEGIN:VCALENDAR
CALSCALE:GREGORIAN
X-WR-TIMEZONE;VALUE=TEXT:Pacific Standard Time
METHOD:PUBLISH
PRODID:-//Flo Inc.//FloSoft//EN
BEGIN:VEVENT
DTSTART;TZID=Pacific Standard Time:20241115T010000Z
DTSTAMP:20241115T010000Z
DTEND;TZID=Pacific Standard Time:20241115T023000Z
SUMMARY;ENCODING=QUOTED-PRINTABLE:Israel’s Palestinian-Arab Citizens: Why They Play by the Rules
DESCRIPTION;ENCODING=QUOTED-PRINTABLE:On November 14th, Sammy Smooha—Professor Emeritus of Sociology at the University of Haifa—will discuss Israel's Palestinian-Arab citizens, how the state discriminates against them, and why they "play by the rules."
LOCATION;ENCODING=QUOTED-PRINTABLE:Bunche Hall, Rm 10383 &amp; online
UID:1678920241115T010000ZIsrael’s Palestinian-Arab Citizens: Why They Play by the Rules
PRIORITY:3
BEGIN:VALARM
TRIGGER;VALUE=DURATION:-P1D
ACTION:DISPLAY
DESCRIPTION:Event reminder
END:VALARM
END:VEVENT
END:VCALENDAR
