BEGIN:VCALENDAR
CALSCALE:GREGORIAN
X-WR-TIMEZONE;VALUE=TEXT:Pacific Standard Time
METHOD:PUBLISH
PRODID:-//Flo Inc.//FloSoft//EN
BEGIN:VEVENT
DTSTART;TZID=Pacific Standard Time:20241001T220000Z
DTSTAMP:20241001T220000Z
DTEND;TZID=Pacific Standard Time:20241002T010000Z
SUMMARY;ENCODING=QUOTED-PRINTABLE:Film Screening: Breaking the Cycle (2024)
DESCRIPTION;ENCODING=QUOTED-PRINTABLE:Virtual Q&amp;A following screening with filmmakers Aekaphong Saransate and Thanakrit Duangmaneeporn.
LOCATION;ENCODING=QUOTED-PRINTABLE:Bunche Hall, Rm 10383
UID:1680720241001T220000ZFilm Screening: Breaking the Cycle (2024)
PRIORITY:3
BEGIN:VALARM
TRIGGER;VALUE=DURATION:-P1D
ACTION:DISPLAY
DESCRIPTION:Event reminder
END:VALARM
END:VEVENT
END:VCALENDAR
