BEGIN:VCALENDAR
CALSCALE:GREGORIAN
X-WR-TIMEZONE;VALUE=TEXT:Pacific Standard Time
METHOD:PUBLISH
PRODID:-//Flo Inc.//FloSoft//EN
BEGIN:VEVENT
DTSTART;TZID=Pacific Standard Time:20241006T023000Z
DTSTAMP:20241006T023000Z
DTEND;TZID=Pacific Standard Time:20241006T033000Z
SUMMARY;ENCODING=QUOTED-PRINTABLE:Science Fiction Against the Margins: Moon Landings
DESCRIPTION;ENCODING=QUOTED-PRINTABLE:Three films — one from France, one from the U.S. and a French-Indonesian-Malaysian coproduction — address moon landings in this UCLA Film &amp; Television Archive Series.  
LOCATION;ENCODING=QUOTED-PRINTABLE:Billy Wilder Theater, Hammer Museum
UID:1681420241006T023000ZScience Fiction Against the Margins: Moon Landings
PRIORITY:3
BEGIN:VALARM
TRIGGER;VALUE=DURATION:-P1D
ACTION:DISPLAY
DESCRIPTION:Event reminder
END:VALARM
END:VEVENT
END:VCALENDAR
