BEGIN:VCALENDAR
CALSCALE:GREGORIAN
X-WR-TIMEZONE;VALUE=TEXT:Pacific Standard Time
METHOD:PUBLISH
PRODID:-//Flo Inc.//FloSoft//EN
BEGIN:VEVENT
DTSTART;TZID=Pacific Standard Time:20241030T230000Z
DTSTAMP:20241030T230000Z
DTEND;TZID=Pacific Standard Time:20241031T003000Z
SUMMARY;ENCODING=QUOTED-PRINTABLE:Perpetrator as Victim: Putin's War in Ukraine and Criticism of Title IX
DESCRIPTION;ENCODING=QUOTED-PRINTABLE:Joy Neumeyer on her new book, A Survivor's Education: Women, Violence, and the Stories We Don’t Tell, in conversation with Jared McBride, UCLA History.
LOCATION;ENCODING=QUOTED-PRINTABLE:Bunche Hall Rm 10383
UID:1682620241030T230000ZPerpetrator as Victim: Putin's War in Ukraine and Criticism of Title IX
PRIORITY:3
BEGIN:VALARM
TRIGGER;VALUE=DURATION:-P1D
ACTION:DISPLAY
DESCRIPTION:Event reminder
END:VALARM
END:VEVENT
END:VCALENDAR
