BEGIN:VCALENDAR
CALSCALE:GREGORIAN
X-WR-TIMEZONE;VALUE=TEXT:Pacific Standard Time
METHOD:PUBLISH
PRODID:-//Flo Inc.//FloSoft//EN
BEGIN:VEVENT
DTSTART;TZID=Pacific Standard Time:20241101T190000Z
DTSTAMP:20241101T190000Z
DTEND;TZID=Pacific Standard Time:20241101T213000Z
SUMMARY;ENCODING=QUOTED-PRINTABLE:Carving the Divine Film Screening and Q&amp;A
DESCRIPTION;ENCODING=QUOTED-PRINTABLE:
LOCATION;ENCODING=QUOTED-PRINTABLE:Ronald Tutor Campus Center (TCC 227), USC <br> 3607 Trousdale Pkwy, LA
UID:1690820241101T190000ZCarving the Divine Film Screening and Q&amp;A
PRIORITY:3
BEGIN:VALARM
TRIGGER;VALUE=DURATION:-P1D
ACTION:DISPLAY
DESCRIPTION:Event reminder
END:VALARM
END:VEVENT
END:VCALENDAR
