BEGIN:VCALENDAR
CALSCALE:GREGORIAN
X-WR-TIMEZONE;VALUE=TEXT:Pacific Standard Time
METHOD:PUBLISH
PRODID:-//Flo Inc.//FloSoft//EN
BEGIN:VEVENT
DTSTART;TZID=Pacific Standard Time:20250205T203000Z
DTSTAMP:20250205T203000Z
DTEND;TZID=Pacific Standard Time:20250205T213000Z
SUMMARY;ENCODING=QUOTED-PRINTABLE:Marketing Democracy: The Political Economy of Democracy Aid in the Middle East
DESCRIPTION;ENCODING=QUOTED-PRINTABLE:Erin A. Snider, Senior Advisor and Consultant, Projects on Democratic Erosion and Openings, U.S. Agency for International Development and the U.S. Department of State
LOCATION;ENCODING=QUOTED-PRINTABLE:Webinar
UID:1698520250205T203000ZMarketing Democracy: The Political Economy of Democracy Aid in the Middle East
PRIORITY:3
BEGIN:VALARM
TRIGGER;VALUE=DURATION:-P1D
ACTION:DISPLAY
DESCRIPTION:Event reminder
END:VALARM
END:VEVENT
END:VCALENDAR
