BEGIN:VCALENDAR
CALSCALE:GREGORIAN
X-WR-TIMEZONE;VALUE=TEXT:Pacific Standard Time
METHOD:PUBLISH
PRODID:-//Flo Inc.//FloSoft//EN
BEGIN:VEVENT
DTSTART;TZID=Pacific Standard Time:20250605T190000Z
DTSTAMP:20250605T190000Z
DTEND;TZID=Pacific Standard Time:20250605T200000Z
SUMMARY;ENCODING=QUOTED-PRINTABLE:Monuments Decolonized: Algeria's French Colonial Heritage
DESCRIPTION;ENCODING=QUOTED-PRINTABLE:A book talk with Professor Susan Slyomovics (UCLA Anthropology and NELC)
LOCATION;ENCODING=QUOTED-PRINTABLE:Haines Hall, Rm 352, No registration required
UID:1700320250605T190000ZMonuments Decolonized: Algeria's French Colonial Heritage
PRIORITY:3
BEGIN:VALARM
TRIGGER;VALUE=DURATION:-P1D
ACTION:DISPLAY
DESCRIPTION:Event reminder
END:VALARM
END:VEVENT
END:VCALENDAR
