BEGIN:VCALENDAR
CALSCALE:GREGORIAN
X-WR-TIMEZONE;VALUE=TEXT:Pacific Standard Time
METHOD:PUBLISH
PRODID:-//Flo Inc.//FloSoft//EN
BEGIN:VEVENT
DTSTART;TZID=Pacific Standard Time:20250510T163000Z
DTSTAMP:20250510T163000Z
DTEND;TZID=Pacific Standard Time:20250510T220000Z
SUMMARY;ENCODING=QUOTED-PRINTABLE:Bruin Day For Transfers
DESCRIPTION;ENCODING=QUOTED-PRINTABLE:
LOCATION;ENCODING=QUOTED-PRINTABLE:Dickson Plaza
UID:1716420250510T163000ZBruin Day For Transfers
PRIORITY:3
BEGIN:VALARM
TRIGGER;VALUE=DURATION:-P1D
ACTION:DISPLAY
DESCRIPTION:Event reminder
END:VALARM
END:VEVENT
END:VCALENDAR
