BEGIN:VCALENDAR
CALSCALE:GREGORIAN
X-WR-TIMEZONE;VALUE=TEXT:Pacific Standard Time
METHOD:PUBLISH
PRODID:-//Flo Inc.//FloSoft//EN
BEGIN:VEVENT
DTSTART;TZID=Pacific Standard Time:20260424T020000Z
DTSTAMP:20260424T020000Z
DTEND;TZID=Pacific Standard Time:20260424T043000Z
SUMMARY;ENCODING=QUOTED-PRINTABLE:Khachatur Avetisyan’s 100th Anniversary and Armenian Genocide Commemoration
DESCRIPTION;ENCODING=QUOTED-PRINTABLE:<p>Join the <a href="https://schoolofmusic.ucla.edu/event/khachatur-avetisyans-100th-anniversary-and-armenian-genocide-commemoration/" target="_blank">HASOM Armenian Music Program</a> for a special concert in observance of the Armenian Genocide Remembrance Day and commemorating the 100th anniversary of the renowned composer Khachatur Avetisyan.</p>

LOCATION;ENCODING=QUOTED-PRINTABLE:<strong>Schoenberg Hall</strong>, 445 Charles E Young Dr E
UID:1760020260424T020000ZKhachatur Avetisyan’s 100th Anniversary and Armenian Genocide Commemoration
PRIORITY:3
BEGIN:VALARM
TRIGGER;VALUE=DURATION:-P1D
ACTION:DISPLAY
DESCRIPTION:Event reminder
END:VALARM
END:VEVENT
END:VCALENDAR
