BEGIN:VCALENDAR
CALSCALE:GREGORIAN
X-WR-TIMEZONE;VALUE=TEXT:Pacific Standard Time
METHOD:PUBLISH
PRODID:-//Flo Inc.//FloSoft//EN
BEGIN:VEVENT
DTSTART;TZID=Pacific Standard Time:20260425T180000Z
DTSTAMP:20260425T180000Z
DTEND;TZID=Pacific Standard Time:20260425T200000Z
SUMMARY;ENCODING=QUOTED-PRINTABLE:A Biographical Approach to Genocidal Ruination: Knowledge, Nature and Dispossession in Johannes Jakob Manissadjian’s (1862–1942) Lifework
DESCRIPTION;ENCODING=QUOTED-PRINTABLE:The fifth Raymond H. Kévorkian Armenian Genocide Remembrance Lecture will be delivered by Dr. Nazan Maksudyan, Senior Researcher at the Centre Marc Bloch (Berlin), with discussant commentary by Dr. Melissa Bilal, the Promise Chair in Armenian Music, Arts, and Culture at UCLA. 

<p>This lecture is organized by the <a href="https://modernarmenianhistory.history.ucla.edu/" target="_blank">Richard Hovannisian Chair of Modern Armenian History at UCLA</a>, and co-sponsored by the <a href="https://www.international.ucla.edu/armenia/" target="_blank">Promise Armenian Institute at UCLA</a>. </p>
LOCATION;ENCODING=QUOTED-PRINTABLE:<strong>Zoom Webinar</strong>
UID:1760720260425T180000ZA Biographical Approach to Genocidal Ruination: Knowledge, Nature and Dispossession in Johannes Jakob Manissadjian’s (1862–1942) Lifework
PRIORITY:3
BEGIN:VALARM
TRIGGER;VALUE=DURATION:-P1D
ACTION:DISPLAY
DESCRIPTION:Event reminder
END:VALARM
END:VEVENT
END:VCALENDAR
