BEGIN:VCALENDAR
CALSCALE:GREGORIAN
X-WR-TIMEZONE;VALUE=TEXT:Pacific Standard Time
METHOD:PUBLISH
PRODID:-//Flo Inc.//FloSoft//EN
BEGIN:VEVENT
DTSTART;TZID=Pacific Standard Time:20260428T191500Z
DTSTAMP:20260428T191500Z
DTEND;TZID=Pacific Standard Time:20260428T204500Z
SUMMARY;ENCODING=QUOTED-PRINTABLE:Community in Disarray
DESCRIPTION;ENCODING=QUOTED-PRINTABLE:Organized by The Department of Anthropology
LOCATION;ENCODING=QUOTED-PRINTABLE:Haines Hall, Rm 352
UID:1765720260428T191500ZCommunity in Disarray
PRIORITY:3
BEGIN:VALARM
TRIGGER;VALUE=DURATION:-P1D
ACTION:DISPLAY
DESCRIPTION:Event reminder
END:VALARM
END:VEVENT
END:VCALENDAR
