BEGIN:VCALENDAR
CALSCALE:GREGORIAN
X-WR-TIMEZONE;VALUE=TEXT:Pacific Standard Time
METHOD:PUBLISH
PRODID:-//Flo Inc.//FloSoft//EN
BEGIN:VEVENT
DTSTART;TZID=Pacific Standard Time:20260428T210000Z
DTSTAMP:20260428T210000Z
DTEND;TZID=Pacific Standard Time:20260428T221500Z
SUMMARY;ENCODING=QUOTED-PRINTABLE:Screening: Fighting for Family
DESCRIPTION;ENCODING=QUOTED-PRINTABLE:Screening of "Fighting for Family" followed by Q&amp;A with director Lan Nguyen
LOCATION;ENCODING=QUOTED-PRINTABLE:Public Affairs Building, Rm 1246
UID:1768220260428T210000ZScreening: Fighting for Family
PRIORITY:3
BEGIN:VALARM
TRIGGER;VALUE=DURATION:-P1D
ACTION:DISPLAY
DESCRIPTION:Event reminder
END:VALARM
END:VEVENT
END:VCALENDAR
