BEGIN:VCALENDAR
CALSCALE:GREGORIAN
X-WR-TIMEZONE;VALUE=TEXT:Pacific Standard Time
METHOD:PUBLISH
PRODID:-//Flo Inc.//FloSoft//EN
BEGIN:VEVENT
DTSTART;TZID=Pacific Standard Time:20120209T230000Z
DTSTAMP:20120209T230000Z
DTEND;TZID=Pacific Standard Time:20120210T003000Z
SUMMARY;ENCODING=QUOTED-PRINTABLE:/s/-aspiration in River Plate Spanish: Tango vs. Rock
DESCRIPTION;ENCODING=QUOTED-PRINTABLE:A look into the rate of /s/-aspiration in the songs, both tango and rock, performed by Andrés Calamaro with Germán Coloma, CEMA University, Buenos Aires, Argentina
LOCATION;ENCODING=QUOTED-PRINTABLE:Rolfe Hall 1301
UID:924220120209T230000Z/s/-aspiration in River Plate Spanish: Tango vs. Rock
PRIORITY:3
BEGIN:VALARM
TRIGGER;VALUE=DURATION:-P1D
ACTION:DISPLAY
DESCRIPTION:Event reminder
END:VALARM
END:VEVENT
END:VCALENDAR
